BEGIN:VCALENDAR
VERSION:2.0
PRODID:-//wp-events-plugin.com//7.2.3.1//EN
TZID:Europe/Paris
X-WR-TIMEZONE:Europe/Paris
BEGIN:VEVENT
UID:55@mordus2savoie.fr
DTSTART;TZID=Europe/Paris:20230526T200000
DTEND;TZID=Europe/Paris:20230527T220000
DTSTAMP:20230415T140543Z
URL:https://mordus2savoie.fr/evenements/vive-bouchon/
SUMMARY:Vive Bouchon !
DESCRIPTION:Il y a Jacques\, le maire de Bouchon\, aussi ambitieux qu'entho
 usiaste\, Nicolas\, son petit frère de 35 ans toujours en CM1\, Odette\, 
 la secrétaire aussi fidèle qu'émotive\, et Robert Flapi\, le contrôleu
 r très corruptible...\n\nVenez embarquer dans la folle aventure de ces bo
 uchonnais déjantés prêts à tout pour sauver leur village ! 1h15 de rir
 es et de bonne humeur garantie !\n\nPour réserver : https://web.digitick.
 com/vive-bouchon-theatre-comedie-css5-otlacannecy-pg51-ei902521.html 
ATTACH;FMTTYPE=image/jpeg:https://i0.wp.com/mordus2savoie.fr/wp-content/up
 loads/2023/04/img.jpeg?fit=258%2C397&ssl=1
CATEGORIES:Thêatre
LOCATION:Salle Pierre Lamy\, 12 Rue de la République\, Annecy\, 74000\, Fr
 ance
X-APPLE-STRUCTURED-LOCATION;VALUE=URI;X-ADDRESS=12 Rue de la République\, 
 Annecy\, 74000\, France;X-APPLE-RADIUS=100;X-TITLE=Salle Pierre Lamy:geo:0
 ,0
END:VEVENT
BEGIN:VTIMEZONE
TZID:Europe/Paris
X-LIC-LOCATION:Europe/Paris
BEGIN:DAYLIGHT
DTSTART:20230326T030000
TZOFFSETFROM:+0100
TZOFFSETTO:+0200
TZNAME:CEST
END:DAYLIGHT
END:VTIMEZONE
END:VCALENDAR