BEGIN:VCALENDAR
VERSION:2.0
PRODID:-//wp-events-plugin.com//7.2.3.1//EN
TZID:Europe/Paris
X-WR-TIMEZONE:Europe/Paris
BEGIN:VEVENT
UID:150@mordus2savoie.fr
DTSTART;TZID=Europe/Paris:20241012T190000
DTEND;TZID=Europe/Paris:20241012T220000
DTSTAMP:20240927T061559Z
URL:https://mordus2savoie.fr/evenements/prohibition-theatre-et-danses-swin
 g/
SUMMARY:Prohibition\, théâtre et danses swing
DESCRIPTION:\n Samedi 12 Octobre 2024 à 19H\, c'est le premier Spectacle d
 e la Saison 24-25 organisé par la MJC d'Aix les Bains.\n\n\nDécouvrez le
  SPECTACLE : Prohibition avec la Cie la Clandestine\n\n\n C'est quel genre
  ?\nThéâtre et Danses Swing (durée : 1H)\nTEASER : https://cie-laclande
 stine.fr/index.php/spectacles/\n\n\nPour qui ?\nTout public\, dès 6 ans\n
 \n\n Comment réserver ?\nEn ligne sur Billet Web\, ou sur place uniquemen
 t le soir du spectacle (dans la limite des places disponibles).\nhttp://ww
 w.mjcaix.fr/admin/agenda-evenements.php\nL'équipe de la MJC et ses béné
 voles vous accueillent sur place à partir de 18H30.\n\n\n C'est où ?\nTh
 éâtre du Casino Grand Cercle\, 3 Av. des Fleurs\, 73100 Aix-les-Bains (a
 ttention\, il est difficile de stationner au centre ville\, surtout le sam
 edi soir).\n\n\nBesoin de plus d'infos ?\nContactez le secrétariat de la 
 MJC : 04 79 35 24 35 ou mjc@mjcaix.fr \n
ATTACH;FMTTYPE=image/jpeg:https://i0.wp.com/mordus2savoie.fr/wp-content/up
 loads/2024/09/prohibition-mjc-aix-les-bains.jpg?fit=526%2C526&ssl=1
CATEGORIES:Thêatre
LOCATION:Théâtre du Casino Grand Cercle\, 3 Av. des Fleurs\, Aix les Bain
 s\, Savoie\, 73 100\, Auvergne Rhône Alpes\, France
X-APPLE-STRUCTURED-LOCATION;VALUE=URI;X-ADDRESS=3 Av. des Fleurs\, Aix les 
 Bains\, Savoie\, 73 100\, Auvergne Rhône Alpes\, France;X-APPLE-RADIUS=10
 0;X-TITLE=Théâtre du Casino Grand Cercle:geo:0,0
END:VEVENT
BEGIN:VTIMEZONE
TZID:Europe/Paris
X-LIC-LOCATION:Europe/Paris
BEGIN:DAYLIGHT
DTSTART:20240331T030000
TZOFFSETFROM:+0100
TZOFFSETTO:+0200
TZNAME:CEST
END:DAYLIGHT
END:VTIMEZONE
END:VCALENDAR