BEGIN:VCALENDAR
VERSION:2.0
PRODID:-//wp-events-plugin.com//7.2.3.1//EN
TZID:Europe/Paris
X-WR-TIMEZONE:Europe/Paris
BEGIN:VEVENT
UID:85@mordus2savoie.fr
DTSTART;TZID=Europe/Paris;VALUE=DATE:20230624
DTEND;TZID=Europe/Paris;VALUE=DATE:20230626
DTSTAMP:20230604T064527Z
URL:https://mordus2savoie.fr/evenements/parade-venitienne-a-chanaz/
SUMMARY:Parade vénitienne à Chanaz
DESCRIPTION:Les parades vénitiennes de Chanaz sont de retour 🎭 Êtes-vo
 us prêts pour ce grand événement ? 🤩\n\nLa commune de Chanaz a le pl
 aisir d’organiser cette année la 11éme édition de son événement pop
 ulaire les Parades Vénitiennes 🥰\nDu 24 au 25 juin nous attendons prè
 s de 130 costumés de toute la France et pour certains de l’étranger\, 
 qui viendront nous émerveiller avec leurs beaux costumes et nous offrir u
 n spectacle des plus époustouflant 😍\n\nPlus de 7000 visiteurs ont ét
 é présents l’année dernière\, nous vous attendons encore nombreux ce
 tte année 😊 Des déambulations libres\, des parades\, un marché véni
 tien\, un feu d’artifice… et plein d’autres surprises vous attendent
  lors de ce week-end ☺️\nAlors\, à vos agendas !\n___________________
 _____________________\n👇PROGRAMME 👇\n\nSamedi 24 juin\n✨ 15h00 - D
 éambulation libre des costumés dans les ruelles du Chef-\nLieu. Accompag
 nement musical\, aubades\, animations expositions et\nartisans à retrouve
 r tout au long de l'après-midi\n✨18h30 - Concert "buissonnier" des enfa
 nts de l'école primaire de\nChanaz à l'Eglise Sainte Apoline\n✨21h30 -
  Parade Nocturne dans les ruelles éclairées aux bougies\n✨23h00 - Feu 
 d'artifice de clôture à admirer depuis la place A. Gianetto.\n\n▪️
 ▪️▪️▪️▪️▪️▪️▪️▪️▪️▪️▪️▪️
 ▪️▪️\n\nDimanche 25 juin\n✨10h00 - Déambulation libre des costu
 més dans les ruelles\ndu Chef-Lieu et sur le Canal de Savières à bord d
 es bateaux électriques.\nAccompagnement musical\, aubades\, animations\, 
 expositions et artisans à retrouver tout au long de la journée.\n✨14h3
 0 - Grande parade des costumés\, deux cortèges parcourront les ruelles d
 u Chef-Lieu avant de terminer sur le podium dans les jardins de la Maison 
 de Boigne à 16h00
ATTACH;FMTTYPE=image/jpeg:https://i0.wp.com/mordus2savoie.fr/wp-content/up
 loads/2023/06/344949233_2157502324638438_85711224961855341_n.jpg?fit=851%2
 C315&ssl=1
CATEGORIES:Fête
LOCATION:Maison de Chanaz\, Place Antoine Gianetto\, CHANAZ\, 73310\, Franc
 e
X-APPLE-STRUCTURED-LOCATION;VALUE=URI;X-ADDRESS=Place Antoine Gianetto\, CH
 ANAZ\, 73310\, France;X-APPLE-RADIUS=100;X-TITLE=Maison de Chanaz:geo:0,0
END:VEVENT
BEGIN:VTIMEZONE
TZID:Europe/Paris
X-LIC-LOCATION:Europe/Paris
BEGIN:DAYLIGHT
DTSTART:20230326T030000
TZOFFSETFROM:+0100
TZOFFSETTO:+0200
TZNAME:CEST
END:DAYLIGHT
END:VTIMEZONE
END:VCALENDAR