BEGIN:VCALENDAR
VERSION:2.0
PRODID:-//wp-events-plugin.com//7.2.3.1//EN
TZID:Europe/Paris
X-WR-TIMEZONE:Europe/Paris
BEGIN:VEVENT
UID:265@mordus2savoie.fr
DTSTART;TZID=Europe/Paris:20260428T183000
DTEND;TZID=Europe/Paris:20260428T193000
DTSTAMP:20260418T152531Z
URL:https://mordus2savoie.fr/evenements/conference-maison-de-leurope-le-nu
 merique-sans-gafam/
SUMMARY:Conférence Maison de l'Europe "Le numérique sans GAFAM"
DESCRIPTION:La Maison de l’Europe d’Albertville et de la Savoie organis
 e une conférence sur le thème “Le numérique européen\, comment se pa
 sser des mastodontes américains” par Bernard Demelin\, ingénieur retra
 ité\, spécialiste du numérique et auteur du livre “Le numérique sans
  GAFAM mode d’emploi”.\n\nElle aura lieu le mardi 28 avril à la Maiso
 n communale du parc d’Albertville à partir de 18h30.\n\nPlus d’inform
 ations sur le site internet www.mdealbertville.fr
ATTACH;FMTTYPE=image/jpeg:https://i0.wp.com/mordus2savoie.fr/wp-content/up
 loads/2026/04/MDEAS.jpg?fit=1080%2C1350&ssl=1
CATEGORIES:Conférence
LOCATION:Maison communale du Parc\, 790 rue Commandant Dubois\, Albertville
 \, 73200\, France
X-APPLE-STRUCTURED-LOCATION;VALUE=URI;X-ADDRESS=790 rue Commandant Dubois\,
  Albertville\, 73200\, France;X-APPLE-RADIUS=100;X-TITLE=Maison communale 
 du Parc:geo:0,0
END:VEVENT
BEGIN:VTIMEZONE
TZID:Europe/Paris
X-LIC-LOCATION:Europe/Paris
BEGIN:DAYLIGHT
DTSTART:20260329T030000
TZOFFSETFROM:+0100
TZOFFSETTO:+0200
TZNAME:CEST
END:DAYLIGHT
END:VTIMEZONE
END:VCALENDAR