BEGIN:VCALENDAR
VERSION:2.0
PRODID:-//wp-events-plugin.com//7.2.3.1//EN
TZID:Europe/Paris
X-WR-TIMEZONE:Europe/Paris
BEGIN:VEVENT
UID:2@mordus2savoie.fr
DTSTART;TZID=Europe/Paris:20230110T090000
DTEND;TZID=Europe/Paris:20230218T190000
DTSTAMP:20230125T085036Z
URL:https://mordus2savoie.fr/evenements/apres-ski-lexpo/
SUMMARY:APRES-SKI\, L’EXPO
DESCRIPTION:\n\nEntre documentaire brut et fiction poétique\, Après-ski
  retrace les vacances au ski de trois urbains en quête de loisirs en alt
 itude et de neige facile. Mais rien ne se déroule comme prévu et cette
  semaine va se transformer en une micro- aventure à la découverte de l
 a montagne et des gens qui y vivent.\nSous un angle moderne et décalé\
 , Après-ski donne à voir la montagne telle qu’elle est\, tout en int
 errogeant le futur des sports d’hiver et le rapport qu’entretiennent l
 es touristes à cet univers si particulier\, ce monde en soi. Restitution
  plus vraie que nature\, Après-ski consiste aussi en une part importante
  d’introspection\, de réflexion et de libre cours laissé à l’ima
 ginaire. En janvier 2020\, les auteurs ont réellement passé une semain
 e dans le massif du Vercors\, rencontré les personnes présentes dans c
 e livre et vécu les situations relatées.\nL’exposition reprend cont
 enus (textes et images) et graphisme du livre paru chez Glénat en novemb
 re 2021.\n\nJOHANN PELLICOT\n\nSkieur de compétition pendant sa jeunesse
 \, Johann Pellicot a parcouru les stations du monde entier sans jamais s
 ’intéresser à autre chose qu’aux stades de slalom. N’ayant clair
 ement pas le niveau pour prendre le départ des Jeux olympiques avec un d
 ossard\, il les vit derrière un bureau (c’est bien aussi) en faisant p
 artie des équipes de candidature puis d’organisation des Jeux olympiqu
 es et paralympiques de Paris 2024. Désireux de comprendre pourquoi le ma
 l du pays le gagne\, Johann décide de redécouvrir la montagne et comme
 nce à écrire sur les gens qui y vivent. Après-ski poursuit le travai
 l initié en 2017 avec Mont-Paradis\, webzine relatant un road trip de 6 
 000 km en Peugeot 104 à travers les Alpes françaises.\n\nSOPHIE RODRIG
 UEZ (PHOTOGRAPHE)\n\nMembre de l’équipe de France de snowboard pendant
  15 ans\, Sophie Rodriguez décide de mettre fin à sa carrière en 201
 8 après 4 participations aux Jeux olympiques et plusieurs médailles mo
 ndiales pour se lancer dans le photojournalisme. Curieuse et dynamique\, l
 a photographie est un moyen pour elle d’explorer notre société\, de 
 porter un regard singulier sur ceux qui la composent et de raconter des hi
 stoires inspirantes. Basée à Grenoble\, Sophie travaille en tant qu'in
 dépendante pour plusieurs titres de la presse nationale (Le Figaro Magaz
 ine\, Libération\, La Croix...) et mène également des projets docume
 ntaires plus personnels.\n\n&nbsp\;\n\n!!! Venez rencontrer les auteurs\, 
 Johann Pellicot et Sophie Rodriguez\, mercredi 11 janvier à partir de 19h
 .\n\n&nbsp\;\n\nVisite libre et gratuite. Le Garage de la Librairie est ou
 vert du mardi au samedi\, de 9h à 19h.\n\n\n\n\n\n\n\nRéservation\nEntr
 ée libre\n\n\n\n\n
ATTACH;FMTTYPE=image/jpeg:https://i0.wp.com/mordus2savoie.fr/wp-content/up
 loads/2023/01/apres-ski-l-expo-1-2b7ed.jpeg?fit=900%2C1425&ssl=1
CATEGORIES:Expositions
LOCATION:Garage de la Librairie des Bauges\, 104 Rue de la République\, Al
 bertville\, Savoie\, 73200\, Auvergne-Rhône-Alpes\, France
GEO:45.675301;6.388541
X-APPLE-STRUCTURED-LOCATION;VALUE=URI;X-ADDRESS=104 Rue de la République\,
  Albertville\, Savoie\, 73200\, Auvergne-Rhône-Alpes\, France;X-APPLE-RAD
 IUS=100;X-TITLE=Garage de la Librairie des Bauges:geo:45.675301,6.388541
END:VEVENT
BEGIN:VTIMEZONE
TZID:Europe/Paris
X-LIC-LOCATION:Europe/Paris
BEGIN:STANDARD
DTSTART:20221030T020000
TZOFFSETFROM:+0200
TZOFFSETTO:+0100
TZNAME:CET
END:STANDARD
END:VTIMEZONE
END:VCALENDAR