BEGIN:VCALENDAR
VERSION:2.0
PRODID:-//wp-events-plugin.com//7.2.3.1//EN
TZID:Europe/Paris
X-WR-TIMEZONE:Europe/Paris
BEGIN:VEVENT
UID:16@mordus2savoie.fr
DTSTART;TZID=Europe/Paris:20230225T183000
DTEND;TZID=Europe/Paris:20230225T234500
DTSTAMP:20230204T061340Z
URL:https://mordus2savoie.fr/evenements/11e-mega-loto-de-les-seynod-footba
 ll/
SUMMARY:11e Mega loto de l’ES Seynod football
DESCRIPTION:L'ES Seynod Football organise son MÉGA LOTO le samedi 25 févr
 ier 2023 à 20H- Salle Cap Périaz à Seynod.\n3 ans après\, il est de re
 tour pour une 11e édition !!\n20 000 € de lots À GAGNER dont :\nUNE VO
 ITURE !!\nUn vélo électrique\, un "BON" voyage\, 1 Écran plat XXL\, 1 O
 rdi portable\, de l'électroménager\, une console de jeu\, des paniers ga
 rnis\, des bons Repas\, etc.\nPLUS DE GAGNANTS \npour cette 11e édition 
 avec des lots bonus à chaque partie : Pour chaque gagnant d'une partie\, 
 un autre participant tiré au sort
ATTACH;FMTTYPE=image/jpeg:https://i0.wp.com/mordus2savoie.fr/wp-content/up
 loads/2023/02/12031_433_megaloto-ES-SEYNOD.png?fit=1357%2C1920&ssl=1
CATEGORIES:Loto
END:VEVENT
BEGIN:VTIMEZONE
TZID:Europe/Paris
X-LIC-LOCATION:Europe/Paris
BEGIN:STANDARD
DTSTART:20221030T020000
TZOFFSETFROM:+0200
TZOFFSETTO:+0100
TZNAME:CET
END:STANDARD
END:VTIMEZONE
END:VCALENDAR